BEGIN:VCALENDAR
VERSION:2.0
PRODID:-//Hearth Patio &amp; Barbecue Association | HPBA - ECPv6.15.20//NONSGML v1.0//EN
CALSCALE:GREGORIAN
METHOD:PUBLISH
X-ORIGINAL-URL:https://hpba.org
X-WR-CALDESC:Events for Hearth Patio &amp; Barbecue Association | HPBA
REFRESH-INTERVAL;VALUE=DURATION:PT1H
X-Robots-Tag:noindex
X-PUBLISHED-TTL:PT1H
BEGIN:VTIMEZONE
TZID:America/New_York
BEGIN:DAYLIGHT
TZOFFSETFROM:-0500
TZOFFSETTO:-0400
TZNAME:EDT
DTSTART:20250309T070000
END:DAYLIGHT
BEGIN:STANDARD
TZOFFSETFROM:-0400
TZOFFSETTO:-0500
TZNAME:EST
DTSTART:20251102T060000
END:STANDARD
BEGIN:DAYLIGHT
TZOFFSETFROM:-0500
TZOFFSETTO:-0400
TZNAME:EDT
DTSTART:20260308T070000
END:DAYLIGHT
BEGIN:STANDARD
TZOFFSETFROM:-0400
TZOFFSETTO:-0500
TZNAME:EST
DTSTART:20261101T060000
END:STANDARD
BEGIN:DAYLIGHT
TZOFFSETFROM:-0500
TZOFFSETTO:-0400
TZNAME:EDT
DTSTART:20270314T070000
END:DAYLIGHT
BEGIN:STANDARD
TZOFFSETFROM:-0400
TZOFFSETTO:-0500
TZNAME:EST
DTSTART:20271107T060000
END:STANDARD
END:VTIMEZONE
BEGIN:VEVENT
DTSTART;VALUE=DATE:20260318
DTEND;VALUE=DATE:20260322
DTSTAMP:20260425T114258
CREATED:20250818T160546Z
LAST-MODIFIED:20260319T225104Z
UID:2955-1773792000-1774137599@hpba.org
SUMMARY:HPBExpo26
DESCRIPTION:https://hpbexpo.com/
URL:https://hpba.org/event/hpbexpo26/
LOCATION:New Orleans Ernest N. Morial Convention Center\, 900 Convention Center Blvd\, New Orleans\, LA\, United States
END:VEVENT
BEGIN:VEVENT
DTSTART;TZID=America/New_York:20260318T170000
DTEND;TZID=America/New_York:20260318T190000
DTSTAMP:20260425T114258
CREATED:20250826T233317Z
LAST-MODIFIED:20260318T224826Z
UID:3158-1773853200-1773860400@hpba.org
SUMMARY:SCHPBA Expo Reception
DESCRIPTION:SCHPBA Expo Reception with Heavy Apps\, cash bar\, networking\, fun!\nEvent Contact: Karen Arpino\nEvent Email: Karen@schpba.org
URL:https://hpba.org/event/schpba-expo-reception-2/
LOCATION:ANNUNCIATION Restaurant & Bar\, 1016 Annunciation St\, New Orleans\, LA\, United States
END:VEVENT
BEGIN:VEVENT
DTSTART;TZID=America/New_York:20260318T170000
DTEND;TZID=America/New_York:20260318T190000
DTSTAMP:20260425T114258
CREATED:20260108T210317Z
LAST-MODIFIED:20260318T224825Z
UID:3557-1773853200-1773860400@hpba.org
SUMMARY:MAHPBA Affiliate Reception
DESCRIPTION:
URL:https://hpba.org/event/2026-mahpba-affiliate-reception/
LOCATION:Mulate’s | The Original Cajun Restaurant\, 201 Julia St\, New Orleans\, LA\, United States
END:VEVENT
BEGIN:VEVENT
DTSTART;TZID=America/New_York:20260318T170000
DTEND;TZID=America/New_York:20260318T200000
DTSTAMP:20260425T114258
CREATED:20260108T210317Z
LAST-MODIFIED:20260318T224826Z
UID:3558-1773853200-1773864000@hpba.org
SUMMARY:NEHPBA “Beer in the Bathtub” Expo Reception
DESCRIPTION:
URL:https://hpba.org/event/nehpba-beer-in-the-bathtub-expo-reception-2/
LOCATION:Lucy’s Retired Surfers Bar & Restaurant\, 701 Tchoupitoulas St\, New Orleans\, LA\, United States
END:VEVENT
BEGIN:VEVENT
DTSTART;TZID=America/New_York:20260318T170000
DTEND;TZID=America/New_York:20260318T200000
DTSTAMP:20260425T114258
CREATED:20260113T211810Z
LAST-MODIFIED:20260318T224826Z
UID:3577-1773853200-1773864000@hpba.org
SUMMARY:Western States Reception
DESCRIPTION:Northwest HPBA/HPBA Pacific\, Oregon HPBA\, & Rocky Mountain HPBAPlease reach out to your affiliate directly to RSVP for your affiliate reception.
URL:https://hpba.org/event/western-states-reception/
LOCATION:Sidecar Patio & Oyster Bar\, 1114 Constance St\, New Orleans\, LA\, United States
END:VEVENT
BEGIN:VEVENT
DTSTART;TZID=America/New_York:20260318T173000
DTEND;TZID=America/New_York:20260318T190000
DTSTAMP:20260425T114258
CREATED:20260113T211810Z
LAST-MODIFIED:20260318T224825Z
UID:3575-1773855000-1773860400@hpba.org
SUMMARY:MSHPBA & MWHPBA Kick-Off Reception
DESCRIPTION:Location – TBDRSVP via registration to add this reception to your badge.
URL:https://hpba.org/event/mshpba-mwhpba-kick-off-reception/
LOCATION:CA
END:VEVENT
BEGIN:VEVENT
DTSTART;TZID=America/New_York:20260318T173000
DTEND;TZID=America/New_York:20260318T200000
DTSTAMP:20260425T114258
CREATED:20260113T211809Z
LAST-MODIFIED:20260318T224826Z
UID:3572-1773855000-1773864000@hpba.org
SUMMARY:SEHPBA Affiliate Reception & Annual General Meeting
DESCRIPTION:RSVP via registration to add this reception to your badge.
URL:https://hpba.org/event/sehpba-affiliate-reception/
LOCATION:Ernest N. Morial Convention Center\, 900 Convention Center Blvd\, New Orleans\, LA\, United States
END:VEVENT
BEGIN:VEVENT
DTSTART;TZID=America/New_York:20260318T190000
DTEND;TZID=America/New_York:20260318T213000
DTSTAMP:20260425T114258
CREATED:20260113T211809Z
LAST-MODIFIED:20260318T224826Z
UID:3574-1773860400-1773869400@hpba.org
SUMMARY:HPBAC Affiliate Reception
DESCRIPTION:RSVP via registration to add this reception to your badge.
URL:https://hpba.org/event/hpbac-affiliate-reception/
LOCATION:The Chicory\, 610 S Peters St\, New Orleans\, LA\, United States
END:VEVENT
BEGIN:VEVENT
DTSTART;TZID=America/New_York:20260320T190000
DTEND;TZID=America/New_York:20260320T213000
DTSTAMP:20260425T114258
CREATED:20260206T161859Z
LAST-MODIFIED:20260319T225104Z
UID:3615-1774033200-1774042200@hpba.org
SUMMARY:HPBAC Canadian Reception & Annual Meeting
DESCRIPTION:https://members.hpbacanada.org/cgi/page.cgi/_evtcal.html?evt=220
URL:https://hpba.org/event/hpbac-canadian-reception-annual-meeting/
LOCATION:The Chicory\, 610 S Peters St\, New Orleans\, LA\, United States
END:VEVENT
BEGIN:VEVENT
DTSTART;TZID=America/New_York:20260504T080000
DTEND;TZID=America/New_York:20260504T170000
DTSTAMP:20260425T114258
CREATED:20250521T200356Z
LAST-MODIFIED:20260424T155458Z
UID:2696-1777881600-1777914000@hpba.org
SUMMARY:2026 MAHPBA Annual Conference
DESCRIPTION:Education\, Networking\, Exhibitors \nEvent URL: https://www.mahpba.org/events/2026MAHPBAAnnualConference/ \nEvent Contact: Devon PossanzaEvent Email: devon.possanza@easterassociates.com
URL:https://hpba.org/event/2026-mahpba-annual-conference/
LOCATION:Hershey Lodge\, 325 University Dr\, Hershey\, PA\, United States
END:VEVENT
BEGIN:VEVENT
DTSTART;VALUE=DATE:20260511
DTEND;VALUE=DATE:20260513
DTSTAMP:20260425T114258
CREATED:20260206T161919Z
LAST-MODIFIED:20260424T155458Z
UID:3617-1778457600-1778630399@hpba.org
SUMMARY:HPBA Region 9 Conference - NWHPBA & OHPBA
DESCRIPTION:https://ohpba.org/13528933
URL:https://hpba.org/event/hpba-region-9-conference-nwhpba-ohpba/
LOCATION:Best Western Plus Hood River Inn\, 1108 E Marina Dr\, Hood River\, OR\, United States
END:VEVENT
BEGIN:VEVENT
DTSTART;TZID=America/New_York:20260512T100000
DTEND;TZID=America/New_York:20260513T160000
DTSTAMP:20260425T114258
CREATED:20250618T161825Z
LAST-MODIFIED:20260424T155458Z
UID:2846-1778580000-1778688000@hpba.org
SUMMARY:MSHPBA Burn & Learn 2026
DESCRIPTION:MSHPBA’s largest regional training and networking event of the year!  Burn & Learn 2026 will include hands-on training\, business courses to help grow your company\, & our much-anticipated Tailgate event. \nEvent URL: https://midstateshpba.org/burn-learn/ \nEvent Contact: Erica GeilEvent Email: egeil@midstateshpba.org
URL:https://hpba.org/event/mshpba-burn-learn-2026/
LOCATION:Perrysburg\, OH
END:VEVENT
BEGIN:VEVENT
DTSTART;TZID=America/New_York:20260518T163000
DTEND;TZID=America/New_York:20260518T190000
DTSTAMP:20260425T114258
CREATED:20260423T144030Z
LAST-MODIFIED:20260424T155458Z
UID:3849-1779121800-1779130800@hpba.org
SUMMARY:HPBA Pacific Las Vegas Mixer
DESCRIPTION:Join us in Las Vegas for an afternoon of comradery and fun!\nEvent Contact: Kaity Van Amersfort\nEvent Email: kaity@hpbapacific.org-
URL:https://hpba.org/event/hpba-pacific-las-vegas-mixer/
LOCATION:2707 E Craig Rd\, North Las Vegas\, NV\, United States
END:VEVENT
BEGIN:VEVENT
DTSTART;TZID=America/New_York:20260531T090000
DTEND;TZID=America/New_York:20260602T120000
DTSTAMP:20260425T114258
CREATED:20250818T160547Z
LAST-MODIFIED:20260424T155458Z
UID:2957-1780218000-1780401600@hpba.org
SUMMARY:NEHPBA Annual Event
DESCRIPTION:Annual meeting with social activities\, education and indoor and outdoor vendors.\nEvent Contact: Karen Arpino\nEvent Email: karen@nehpba.org
URL:https://hpba.org/event/nehpba-annual-event/
LOCATION:Maynard Rod and Gun Club\, 45 Old Mill Rd\, Maynard\, MA\, United States
END:VEVENT
BEGIN:VEVENT
DTSTART;VALUE=DATE:20260602
DTEND;VALUE=DATE:20260605
DTSTAMP:20260425T114258
CREATED:20260423T144030Z
LAST-MODIFIED:20260424T155458Z
UID:3851-1780358400-1780617599@hpba.org
SUMMARY:RMHPBA: 2026 Denver Annual Event
DESCRIPTION:Event Website \nWe’re excited to host our Denver Annual Event again this year! This annual gathering brings together our members to take hands-on\, business and technical classes\, and stay updated on what’s happening in our industry\, share ideas\, and connect. We have a full program planned and we hope to see you there! \nTip: Log into your member account to see the free member registration options. \n \nAccommodations \n\nHomewood Suites by Hilton Thornton Denver\, 12150 Grant Street\, Thornton\, Colorado 80241 USA\nBook a discounted room here for $135/night by May 11\, 2026
URL:https://hpba.org/event/rmhpba-2026-denver-annual-event/
LOCATION:FlatIrons Fire\, 5353 Bannock St\, Denver\, CO\, United States
END:VEVENT
BEGIN:VEVENT
DTSTART;VALUE=DATE:20260602
DTEND;VALUE=DATE:20260605
DTSTAMP:20260425T114258
CREATED:20260423T144031Z
LAST-MODIFIED:20260423T144031Z
UID:3852-1780358400-1780617599@hpba.org
SUMMARY:RMHPBA: 2026 Denver Annual Event
DESCRIPTION:Event Website \nWe’re excited to host our Denver Annual Event again this year! This annual gathering brings together our members to take hands-on\, business and technical classes\, and stay updated on what’s happening in our industry\, share ideas\, and connect. We have a full program planned and we hope to see you there! \nTip: Log into your member account to see the free member registration options. \n \nAccommodations \n\nHomewood Suites by Hilton Thornton Denver\, 12150 Grant Street\, Thornton\, Colorado 80241 USA\nBook a discounted room here for $135/night by May 11\, 2026
URL:https://hpba.org/event/rmhpba-2026-denver-annual-event-2/
LOCATION:FlatIrons Fire\, 5353 Bannock St\, Denver\, CO\, United States
END:VEVENT
BEGIN:VEVENT
DTSTART;TZID=America/New_York:20260607T090000
DTEND;TZID=America/New_York:20260609T123000
DTSTAMP:20260425T114258
CREATED:20250818T160547Z
LAST-MODIFIED:20260424T155458Z
UID:2958-1780822800-1781008200@hpba.org
SUMMARY:NCHPBA Annual Event
DESCRIPTION:With education for owners\, sales\, installers and service techs\, a keynote address\, indoor and outdoor vendors\, networking\, golf\, sporting clays\, and fun\, this is an event that should not be missed! \nEvent URL: https://northcentralhpba.org/calendar#!event/2026/6/7/nchpba-2026-annual-meeting-and-summer-event \nEvent Contact: Karen ArpinoEvent Email: karpino@northcentralhpba.org
URL:https://hpba.org/event/nchpba-annual-event-2/
LOCATION:Chula Vista Resort 1000 Chula Vista Parkway\, Wisconsin Dells\, WI\, United States
END:VEVENT
BEGIN:VEVENT
DTSTART;TZID=America/New_York:20260809T090000
DTEND;TZID=America/New_York:20260811T120000
DTSTAMP:20260425T114258
CREATED:20260122T230507Z
LAST-MODIFIED:20260424T155458Z
UID:3591-1786266000-1786449600@hpba.org
SUMMARY:SCHPBA Summer Annual Meeting
DESCRIPTION:Install/service and sales training\, hands-on education\, NFI certification\, networking\, product showcase\, fun\n\n\n\nEvent URL: https://schpba.org/events-calendar/#!event-listEvent Contact: Karen ArpinoEvent Email: Karen@schpba.org
URL:https://hpba.org/event/schpba-annual-event/
LOCATION:CDR Fireplaces\, 699 S Baugh St\, Alvarado\, TX\, United States
END:VEVENT
BEGIN:VEVENT
DTSTART;VALUE=DATE:20260831
DTEND;VALUE=DATE:20260902
DTSTAMP:20260425T114258
CREATED:20260423T144031Z
LAST-MODIFIED:20260424T155458Z
UID:3854-1788134400-1788307199@hpba.org
SUMMARY:HPBA Pacific 2-Day Training & Product Showcase
DESCRIPTION:August 31 @ 8:00 am – September 1 @ 4:00 pm \nEarly Bird Member: $109Early Bird Non-Member: $139 \nAfter June 30:Member: $129Non-Members: $169 \nSponsor Tables: $500- includes one 6 foot table\, 2 chairs\, 2 attendees\, and a 30 second pitch of your products and business during our partner Roundtable \nPreliminary Agenda \nDay 1 Schedule:8 – 9 Keynote and Government Affairs updates10 – 12 Dexen Industries gas training class12 – 1 Lunch1 – 2. Class2 – 3. Class3 – 4. Class5:30 – 7:30. BEER BASH!! at a local brewery \nDay 2 Schedule:8 – 9 Breakfast9 – 12. Break out sessions11 – 12 Electric Grill class with RH Peterson12 – 1. Barbecue lunch1 – 4. More classes \nRegister here
URL:https://hpba.org/event/hpba-pacific-2-day-training-product-showcase/
LOCATION:West End Brick ‘n Fire\, 5091 G St\, Chino\, CA\, United States
END:VEVENT
BEGIN:VEVENT
DTSTART;VALUE=DATE:20260831
DTEND;VALUE=DATE:20260902
DTSTAMP:20260425T114258
CREATED:20260423T144031Z
LAST-MODIFIED:20260423T144031Z
UID:3855-1788134400-1788307199@hpba.org
SUMMARY:HPBA Pacific 2-Day Training & Product Showcase
DESCRIPTION:August 31 @ 8:00 am – September 1 @ 4:00 pm \nEarly Bird Member: $109Early Bird Non-Member: $139 \nAfter June 30:Member: $129Non-Members: $169 \nSponsor Tables: $500- includes one 6 foot table\, 2 chairs\, 2 attendees\, and a 30 second pitch of your products and business during our partner Roundtable \nPreliminary Agenda \nDay 1 Schedule:8 – 9 Keynote and Government Affairs updates10 – 12 Dexen Industries gas training class12 – 1 Lunch1 – 2. Class2 – 3. Class3 – 4. Class5:30 – 7:30. BEER BASH!! at a local brewery \nDay 2 Schedule:8 – 9 Breakfast9 – 12. Break out sessions11 – 12 Electric Grill class with RH Peterson12 – 1. Barbecue lunch1 – 4. More classes \nRegister here
URL:https://hpba.org/event/hpba-pacific-2-day-training-product-showcase-2/
LOCATION:West End Brick ‘n Fire\, 5091 G St\, Chino\, CA\, United States
END:VEVENT
END:VCALENDAR